BEGIN:VCALENDAR
VERSION:2.0
PRODID:-//hacksw/handcal//NONSGML v1.0//EN
CALSCALE:GREGORIAN
BEGIN:VEVENT
LOCATION:Chemin de Terrefort 33480 Castelnau-de-Médoc
DESCRIPTION:Le Tennis Club La Médullienne organise la 12e édition de son traditionnel Tournoi de Printemps,...
DTSTART:20260404
DTEND:20260427
SUMMARY:Tournoi de tennis de printemps
URL;VALUE=URI:https://www.mairie-castelnau-medoc.fr/agenda/tournoi-de-tennis-de-printemps/
DTSTAMP:20260420T155244
UID:69e64bccbeaad
END:VEVENT
END:VCALENDAR