BEGIN:VCALENDAR
VERSION:2.0
PRODID:-//hacksw/handcal//NONSGML v1.0//EN
CALSCALE:GREGORIAN
BEGIN:VEVENT
LOCATION:Rue de l’Ancien College 33480 Castelnau-de-Médoc
DESCRIPTION:La Scapa propose un stage « Heels » en avril 2026, accessible à tous, adhérents ou non...
DTSTART:20260426T140000
DTEND:20260426T150000
SUMMARY:Stage Heels
URL;VALUE=URI:https://www.mairie-castelnau-medoc.fr/agenda/stage-heels/
DTSTAMP:20260420T032415
UID:69e59c5ff1bca
END:VEVENT
END:VCALENDAR