BEGIN:VCALENDAR
VERSION:2.0
PRODID:-//hacksw/handcal//NONSGML v1.0//EN
CALSCALE:GREGORIAN
BEGIN:VEVENT
LOCATION:34 Rue Victor Hugo 33480 Castelnau-de-Médoc
DESCRIPTION:Testez vos connaissances sur l’univers de Poudlard ! Quiz, animations et cadeaux à gagner. Accueil...
DTSTART:20260206T180000
DTEND:20260206T213000
SUMMARY:Grand quiz Harry Potter
URL;VALUE=URI:https://www.mairie-castelnau-medoc.fr/agenda/grand-quiz-harry-potter/
DTSTAMP:20260423T154601
UID:69ea3eb9ca83c
END:VEVENT
END:VCALENDAR