BEGIN:VCALENDAR
VERSION:2.0
PRODID:-//hacksw/handcal//NONSGML v1.0//EN
CALSCALE:GREGORIAN
BEGIN:VEVENT
LOCATION:Chemin de Terrefort 33480 Castelnau-de-Médoc
DESCRIPTION:Le Modélisme électrique Club Girondin organise une grande course de modélisme électrique 1/10 dimanche 26...
DTSTART:20260426T090000
DTEND:20260426T170000
SUMMARY:Course de modélisme électrique
URL;VALUE=URI:https://www.mairie-castelnau-medoc.fr/agenda/course-de-modelisme-electrique/
DTSTAMP:20260420T032603
UID:69e59ccb34755
END:VEVENT
END:VCALENDAR